BEGIN:VCALENDAR
VERSION:2.0
PRODID:-//Roberta Kay - ECPv6.15.20//NONSGML v1.0//EN
CALSCALE:GREGORIAN
METHOD:PUBLISH
X-WR-CALNAME:Roberta Kay
X-ORIGINAL-URL:https://robertakay.com
X-WR-CALDESC:Events for Roberta Kay
REFRESH-INTERVAL;VALUE=DURATION:PT1H
X-Robots-Tag:noindex
X-PUBLISHED-TTL:PT1H
BEGIN:VTIMEZONE
TZID:UTC
BEGIN:STANDARD
TZOFFSETFROM:+0000
TZOFFSETTO:+0000
TZNAME:UTC
DTSTART:20240101T000000
END:STANDARD
END:VTIMEZONE
BEGIN:VEVENT
DTSTART;TZID=UTC:20250111T110000
DTEND;TZID=UTC:20250111T150000
DTSTAMP:20260425T031932
CREATED:20241118T204820Z
LAST-MODIFIED:20241119T215907Z
UID:2790-1736593200-1736607600@robertakay.com
SUMMARY:Dream Big(ger) 2025 : Vision Board Luncheon
DESCRIPTION:Step into a sacred space of connection and inspiration at the Dream Big(Ger): 2025 Vision Board Luncheon\, a soul-stirring event designed exclusively for women. This is more than just a gathering; it’s a celebration of dreams\, purpose\, and vision—rooted in faith and brought to life through fellowship. Together\, we’ll harness the power of collective energy to set intentions for the new year\, aligning our visions with our deepest aspirations and divine purpose.\n\nClick Here To Register —> Register Today\n\nGuided by the belief that “faith without works is dead” and “without a vision\, my people will perish\,” this luncheon brings women together to create\, inspire\, and uplift. Surrounded by like-minded souls\, you’ll craft a vision board that reflects your highest hopes and biggest dreams\, supporting one another in manifesting a purposeful year ahead. Join us to amplify your vision\, strengthen your faith\, and bond with a sisterhood that encourages you to Dream Big(ger) for 2025.\n\nClick Here To Register —> Register Today
URL:https://robertakay.com/event/dream-bigger-2025-vision-board-luncheon/
LOCATION:DoubleTree by Hilton Hotel & Executive Meeting Center Palm Beach Gardens\, 4431 PGA Boulevard\, \, FL\, Palm Beach Gardens\, FL\, 33410\, United States
CATEGORIES:Upcoming Events
ATTACH;FMTTYPE=image/jpeg:https://robertakay.com/wp-content/uploads/2024/11/robertakay-facebook-event-cover.jpg
ORGANIZER;CN="Roberta Kay Ministries":MAILTO:connect@robertakay.com
END:VEVENT
END:VCALENDAR