BEGIN:VCALENDAR
VERSION:2.0
PRODID:-//Roberta Kay - ECPv6.15.20//NONSGML v1.0//EN
CALSCALE:GREGORIAN
METHOD:PUBLISH
X-ORIGINAL-URL:https://robertakay.com
X-WR-CALDESC:Events for Roberta Kay
REFRESH-INTERVAL;VALUE=DURATION:PT1H
X-Robots-Tag:noindex
X-PUBLISHED-TTL:PT1H
BEGIN:VTIMEZONE
TZID:UTC
BEGIN:STANDARD
TZOFFSETFROM:+0000
TZOFFSETTO:+0000
TZNAME:UTC
DTSTART:20240101T000000
END:STANDARD
END:VTIMEZONE
BEGIN:VEVENT
DTSTART;TZID=UTC:20250920T093000
DTEND;TZID=UTC:20250920T130000
DTSTAMP:20260425T124548
CREATED:20250904T170317Z
LAST-MODIFIED:20250904T181558Z
UID:2961-1758360600-1758373200@robertakay.com
SUMMARY:Spirit Infusion Saturday
DESCRIPTION:Join us Saturday\, September 20th\, 9:30 AM – 1:00 PM for a powerful morning of worship\, the Word\, and prayer. \n👉 Space is Limited!  Reserve your spot today:  \nhttps://robertakay.breezechms.com/form/84c437  \n✨ 9:30 Check-in & mingle \n🎶 10:00 Worship begins promptly\n🙏 Word & prayer following worship\n🥗 12-1 Lite lunch \n(Jupiter Address Supplied at Time of Registration) \nThis is more than a service—it’s a time to encounter God’s presence\, be refreshed\, and be ignited with fresh faith and fire! \n 
URL:https://robertakay.com/event/spirit-infusion-saturday/
ATTACH;FMTTYPE=image/png:https://robertakay.com/wp-content/uploads/2025/09/Praise-2.png
ORGANIZER;CN="Roberta Kay Ministries":MAILTO:connect@robertakay.com
END:VEVENT
BEGIN:VEVENT
DTSTART;TZID=UTC:20251008T190000
DTEND;TZID=UTC:20251008T210000
DTSTAMP:20260425T124548
CREATED:20251007T170743Z
LAST-MODIFIED:20251007T170743Z
UID:2981-1759950000-1759957200@robertakay.com
SUMMARY:Back to Basics
DESCRIPTION:
URL:https://robertakay.com/event/back-to-basics/
LOCATION:Jupiter Location\, 6977 Cypress Cove Cir\, Jupiter\, FL\, 33458-3793\, United States
ATTACH;FMTTYPE=image/jpeg:https://robertakay.com/wp-content/uploads/2025/08/Beige-Abstract-International-Womens-Day-Instagram-Post-4.jpg
END:VEVENT
BEGIN:VEVENT
DTSTART;TZID=UTC:20251113T190000
DTEND;TZID=UTC:20251113T210000
DTSTAMP:20260425T124548
CREATED:20251019T172540Z
LAST-MODIFIED:20251019T172540Z
UID:3004-1763060400-1763067600@robertakay.com
SUMMARY:Back to Basics
DESCRIPTION:
URL:https://robertakay.com/event/back-to-basics-2/
ATTACH;FMTTYPE=image/jpeg:https://robertakay.com/wp-content/uploads/2025/08/Beige-Abstract-International-Womens-Day-Instagram-Post-4.jpg
END:VEVENT
BEGIN:VEVENT
DTSTART;TZID=UTC:20251210T190000
DTEND;TZID=UTC:20251210T210000
DTSTAMP:20260425T124548
CREATED:20251031T145120Z
LAST-MODIFIED:20251031T145429Z
UID:3019-1765393200-1765400400@robertakay.com
SUMMARY:Back to Basics
DESCRIPTION:
URL:https://robertakay.com/event/back-to-basics-3/
ATTACH;FMTTYPE=image/jpeg:https://robertakay.com/wp-content/uploads/2025/08/Beige-Abstract-International-Womens-Day-Instagram-Post-4.jpg
END:VEVENT
BEGIN:VEVENT
DTSTART;TZID=UTC:20260110T090000
DTEND;TZID=UTC:20260110T123000
DTSTAMP:20260425T124548
CREATED:20251114T171456Z
LAST-MODIFIED:20251208T175229Z
UID:3024-1768035600-1768048200@robertakay.com
SUMMARY:Dream Big(ger) Vision Board Workshop
DESCRIPTION:Dream Big(ger) 2026: Vision Board Workshop \n“This is Your Year!”\nSaturday\, January 10\, 2026 • 9:00 AM – 12:30 PM DoubleTree Resort\, Palm Beach Gardens \nClick Here to Register —>  https://robertakay.breezechms.com/form/86e97177  \nContinental Breakfast • Vendor Shopping • Guest Speakers • Vision Board Kit Included \nStep into a morning designed to lift your heart\, stir your faith\, and awaken the dreams you may have set aside. The Dream Big(ger) Vision Board Workshop is back—and this year\, it’s all about igniting your faith so you can begin walking in everything God has already promised you. If you’ve felt stuck\, unsure of your next step\, or simply ready for a fresh start\, this uplifting experience will help you refocus\, rebuild\, and dream again with boldness. \nYou’ll enjoy a cozy continental breakfast\, browse inspiring vendors\, and settle into a space filled with encouragement\, sisterhood\, and possibility. Special guest Melissa Butterworth and Anna Cartwright along with Roberta Kay\, will pour into you with powerful\, faith-building messages that will ignite your confidence and remind you that your story isn’t over—your next chapter is waiting. \nTogether\, we’ll walk you through creating a vision board that reflects where you’re going\, not where you’ve been. You’ll leave with renewed hope\, practical clarity\, and a deeper belief that the dreams in your heart were placed there for a reason. This is your year to rise\, to stretch\, to grow\, and to say\, “Yes\, I’m ready for more.” \nCome dreaming.\nLeave unstoppable.\nYour 2026 vision starts here. \nClick Here to Register —>  https://robertakay.breezechms.com/form/86e97177 
URL:https://robertakay.com/event/3024/
LOCATION:DoubleTree by Hilton Hotel & Executive Meeting Center Palm Beach Gardens\, 4431 PGA Boulevard\, \, FL\, Palm Beach Gardens\, FL\, 33410\, United States
ATTACH;FMTTYPE=image/jpeg:https://robertakay.com/wp-content/uploads/2025/11/B-2.jpg
END:VEVENT
BEGIN:VEVENT
DTSTART;TZID=UTC:20260114T190000
DTEND;TZID=UTC:20260114T210000
DTSTAMP:20260425T124548
CREATED:20260112T182808Z
LAST-MODIFIED:20260112T182808Z
UID:3054-1768417200-1768424400@robertakay.com
SUMMARY:"Back to Basics"
DESCRIPTION:Join us Wednesday\, January 14th at 7:00 PM for an evening you don’t want to miss. \nCome expecting God to touch your heart through worship\, the Word of God and beautiful fellowship with other like-minded women of faith who will listen to you\, pray with you\, and believe with you. \nThis is the perfect night to bring a friend who needs a reset\, encouragement\, or just a safe space to breathe and be refreshed. \n📩 DM for address & details📧 Or email connect@robertakay.com
URL:https://robertakay.com/event/back-to-basics-4/
ATTACH;FMTTYPE=image/png:https://robertakay.com/wp-content/uploads/2026/01/back-to-basics-group-pic1.png
END:VEVENT
BEGIN:VEVENT
DTSTART;TZID=UTC:20260211T190000
DTEND;TZID=UTC:20260211T210000
DTSTAMP:20260425T124548
CREATED:20260127T175556Z
LAST-MODIFIED:20260127T180636Z
UID:3057-1770836400-1770843600@robertakay.com
SUMMARY:"Back to Basics"
DESCRIPTION:“Back to Basics” is a monthly women’s gathering designed to help you pause\, reset\, and refocus on what truly matters. Life gets busy\, overwhelming\, and noisy.  This night is about getting back to your foundation. \nJoin us for a relaxed\, welcoming evening filled with uplifting worship\, an encouraging and practical message\, heartfelt prayer\, and genuine connection with other women. No pressure. No pretending. Just a safe space to breathe\, be refreshed\, and leave strengthened and encouraged for the season ahead. \nCome as you are. Bring a friend. Leave renewed. \n\nFor address and further details\, please email us connect@robertakay.com
URL:https://robertakay.com/event/back-to-basics-5/
ATTACH;FMTTYPE=image/png:https://robertakay.com/wp-content/uploads/2026/01/back-to-basics-group-pic1.png
END:VEVENT
BEGIN:VEVENT
DTSTART;TZID=UTC:20260311T190000
DTEND;TZID=UTC:20260311T210000
DTSTAMP:20260425T124548
CREATED:20260307T180254Z
LAST-MODIFIED:20260307T180254Z
UID:3071-1773255600-1773262800@robertakay.com
SUMMARY:"Back to Basics"
DESCRIPTION:“Back to Basics” is a monthly women’s gathering designed to help you pause\, reset\, and refocus on what truly matters. Life gets busy\, overwhelming\, and noisy.  This night is about getting back to your foundation. \nJoin us for a relaxed\, welcoming evening filled with uplifting worship\, an encouraging and practical message\, heartfelt prayer\, and genuine connection with other women. No pressure. No pretending. Just a safe space to breathe\, be refreshed\, and leave strengthened and encouraged for the season ahead. \nCome as you are. Bring a friend. Leave renewed. \nFor address and further details\, please email us connect@robertakay.com
URL:https://robertakay.com/event/back-to-basics-6/
ATTACH;FMTTYPE=image/png:https://robertakay.com/wp-content/uploads/2026/01/back-to-basics-group-pic1.png
END:VEVENT
BEGIN:VEVENT
DTSTART;TZID=UTC:20260408T190000
DTEND;TZID=UTC:20260408T210000
DTSTAMP:20260425T124548
CREATED:20260408T172459Z
LAST-MODIFIED:20260408T172459Z
UID:3081-1775674800-1775682000@robertakay.com
SUMMARY:"Back to Basics"
DESCRIPTION:“Back to Basics” is a monthly women’s gathering designed to help you pause\, reset\, and refocus on what truly matters. Life gets busy\, overwhelming\, and noisy.  This night is about getting back to your foundation. \nJoin us for a relaxed\, welcoming evening filled with uplifting worship\, an encouraging and practical message\, heartfelt prayer\, and genuine connection with other women. No pressure. No pretending. Just a safe space to breathe\, be refreshed\, and leave strengthened and encouraged for the season ahead. \nCome as you are. Bring a friend. Leave renewed. \nFor address and further details\, please email us connect@robertakay.com
URL:https://robertakay.com/event/back-to-basics-7/
ATTACH;FMTTYPE=image/png:https://robertakay.com/wp-content/uploads/2026/01/back-to-basics-group-pic1.png
END:VEVENT
BEGIN:VEVENT
DTSTART;TZID=UTC:20260513T190000
DTEND;TZID=UTC:20260513T210000
DTSTAMP:20260425T124548
CREATED:20260408T172840Z
LAST-MODIFIED:20260408T172840Z
UID:3083-1778698800-1778706000@robertakay.com
SUMMARY:"Back to Basics"
DESCRIPTION:“Back to Basics” is a monthly women’s gathering designed to help you pause\, reset\, and refocus on what truly matters. Life gets busy\, overwhelming\, and noisy.  This night is about getting back to your foundation. \nJoin us for a relaxed\, welcoming evening filled with uplifting worship\, an encouraging and practical message\, heartfelt prayer\, and genuine connection with other women. No pressure. No pretending. Just a safe space to breathe\, be refreshed\, and leave strengthened and encouraged for the season ahead. \nCome as you are. Bring a friend. Leave renewed. \nFor address and further details\, please email us connect@robertakay.com
URL:https://robertakay.com/event/back-to-basics-8/
ATTACH;FMTTYPE=image/png:https://robertakay.com/wp-content/uploads/2026/01/back-to-basics-group-pic1.png
END:VEVENT
BEGIN:VEVENT
DTSTART;TZID=UTC:20260610T190000
DTEND;TZID=UTC:20260610T210000
DTSTAMP:20260425T124548
CREATED:20260408T173040Z
LAST-MODIFIED:20260408T173040Z
UID:3085-1781118000-1781125200@robertakay.com
SUMMARY:"Back to Basics"
DESCRIPTION:“Back to Basics” is a monthly women’s gathering designed to help you pause\, reset\, and refocus on what truly matters. Life gets busy\, overwhelming\, and noisy.  This night is about getting back to your foundation. \nJoin us for a relaxed\, welcoming evening filled with uplifting worship\, an encouraging and practical message\, heartfelt prayer\, and genuine connection with other women. No pressure. No pretending. Just a safe space to breathe\, be refreshed\, and leave strengthened and encouraged for the season ahead. \nCome as you are. Bring a friend. Leave renewed. \nFor address and further details\, please email us connect@robertakay.com
URL:https://robertakay.com/event/back-to-basics-9/
ATTACH;FMTTYPE=image/png:https://robertakay.com/wp-content/uploads/2026/01/back-to-basics-group-pic1.png
END:VEVENT
BEGIN:VEVENT
DTSTART;TZID=UTC:20260620T100000
DTEND;TZID=UTC:20260620T130000
DTSTAMP:20260425T124548
CREATED:20260307T182052Z
LAST-MODIFIED:20260408T174930Z
UID:3073-1781949600-1781960400@robertakay.com
SUMMARY:Spirit Infusion Saturday
DESCRIPTION:Join us Saturday\, June 20th\, 10 AM – 1:00 PM for a powerful morning of worship\, the Word\, and prayer. \n👉 Space is Limited!  Reserve your spot today \n9:45 AM Check-in & mingle \n10:00 AM Worship begins promptly\nWord & prayer following worship\n12 Noon -1 PM  Lite lunch \n(Jupiter Address Supplied at Time of Registration) \nThis is more than a service—it’s a time to encounter God’s presence\, be refreshed\, and be ignited with fresh faith and fire! \n 
URL:https://robertakay.com/event/spirit-infusion-saturday-2/
ATTACH;FMTTYPE=image/jpeg:https://robertakay.com/wp-content/uploads/2026/03/June-Spirit-Infusion.jpg
ORGANIZER;CN="Roberta Kay Ministries":MAILTO:connect@robertakay.com
END:VEVENT
END:VCALENDAR