BEGIN:VCALENDAR
VERSION:2.0
PRODID:-//Roberta Kay - ECPv6.15.20//NONSGML v1.0//EN
CALSCALE:GREGORIAN
METHOD:PUBLISH
X-WR-CALNAME:Roberta Kay
X-ORIGINAL-URL:https://robertakay.com
X-WR-CALDESC:Events for Roberta Kay
REFRESH-INTERVAL;VALUE=DURATION:PT1H
X-Robots-Tag:noindex
X-PUBLISHED-TTL:PT1H
BEGIN:VTIMEZONE
TZID:UTC
BEGIN:STANDARD
TZOFFSETFROM:+0000
TZOFFSETTO:+0000
TZNAME:UTC
DTSTART:20210101T000000
END:STANDARD
END:VTIMEZONE
BEGIN:VEVENT
DTSTART;TZID=UTC:20240403T190000
DTEND;TZID=UTC:20240403T203000
DTSTAMP:20260425T105540
CREATED:20240402T153141Z
LAST-MODIFIED:20240402T153141Z
UID:2654-1712170800-1712176200@robertakay.com
SUMMARY:Back to Basics Ladies Night
DESCRIPTION:Join us the first Wednesday evening of every month in Jupiter for our Ladies Night Bible Study and Fellowship.  This small group encounter  focuses on digging into the everyday challenges that we as women of God face in our daily lives.
URL:https://robertakay.com/event/back-to-basics-ladies-night-3/
LOCATION:Jupiter Location\, 6977 Cypress Cove Cir\, Jupiter\, FL\, 33458-3793\, United States
CATEGORIES:Our Events,Upcoming Events
ATTACH;FMTTYPE=image/jpeg:https://robertakay.com/wp-content/uploads/2022/08/Ladies-Night-for-Website-Events.jpg
ORGANIZER;CN="Roberta Kay Ministries":MAILTO:connect@robertakay.com
END:VEVENT
BEGIN:VEVENT
DTSTART;TZID=UTC:20240306T190000
DTEND;TZID=UTC:20240306T203000
DTSTAMP:20260425T105540
CREATED:20240226T130440Z
LAST-MODIFIED:20240229T020654Z
UID:2630-1709751600-1709757000@robertakay.com
SUMMARY:Back to Basics Ladies Night
DESCRIPTION:Join us the first Wednesday evening of every month in Jupiter for our Ladies Night Bible Study and Fellowship.  This small group encounter  focuses on digging into the everyday challenges that we as women of God face in our daily lives.
URL:https://robertakay.com/event/back-to-basics-ladies-night-2/
LOCATION:Jupiter Location\, 6977 Cypress Cove Cir\, Jupiter\, FL\, 33458-3793\, United States
CATEGORIES:Our Events,Upcoming Events
ATTACH;FMTTYPE=image/jpeg:https://robertakay.com/wp-content/uploads/2022/08/Ladies-Night-for-Website-Events.jpg
ORGANIZER;CN="Roberta Kay Ministries":MAILTO:connect@robertakay.com
END:VEVENT
BEGIN:VEVENT
DTSTART;TZID=UTC:20240207T190000
DTEND;TZID=UTC:20240207T203000
DTSTAMP:20260425T105540
CREATED:20220827T184340Z
LAST-MODIFIED:20240119T234040Z
UID:2304-1707332400-1707337800@robertakay.com
SUMMARY:Back to Basics Ladies Night
DESCRIPTION:Join us the first Wednesday evening of every month in Jupiter for our Ladies Night Bible Study and Fellowship.  This small group encounter  focuses on digging into the everyday challenges that we as women of God face in our daily lives.
URL:https://robertakay.com/event/back-to-basics-ladies-night-2023-09-06-2023-11-01/
LOCATION:Jupiter Location\, 6977 Cypress Cove Cir\, Jupiter\, FL\, 33458-3793\, United States
CATEGORIES:Our Events,Upcoming Events
ATTACH;FMTTYPE=image/jpeg:https://robertakay.com/wp-content/uploads/2022/08/Ladies-Night-for-Website-Events.jpg
ORGANIZER;CN="Roberta Kay Ministries":MAILTO:connect@robertakay.com
END:VEVENT
BEGIN:VEVENT
DTSTART;TZID=UTC:20240106T110000
DTEND;TZID=UTC:20240106T140000
DTSTAMP:20260425T105540
CREATED:20231229T004226Z
LAST-MODIFIED:20231229T004226Z
UID:2568-1704538800-1704549600@robertakay.com
SUMMARY:Vision Board Potluck Luncheon
DESCRIPTION:Please join us for a great time of fellowship\, the Word of God and creating your very own vision board for 2024! \nWe will have all the supplies you will need.  Magazines\, glue\, poster board and crafts to help create your board. You are also welcome to bring any of your own supplies. \nI know that God is going to begin to put His vision into your spirit over the next few weeks.  Come expecting Him to touch your heart\, heal your soul and bring hope to your spirit. \nRSVP Today and Let Us Know If You Will Be Able to Join Us.  connect@robertakay.com \n561-701-6186 \nCan’t wait to see you! \nPlease use the event website  to sign-up for the potluck \n  \n 
URL:https://robertakay.com/event/vision-board-potluck-luncheon/
LOCATION:Jupiter Location\, 6977 Cypress Cove Cir\, Jupiter\, FL\, 33458-3793\, United States
ATTACH;FMTTYPE=image/jpeg:https://robertakay.com/wp-content/uploads/2023/12/golden-2024.jpeg
ORGANIZER;CN="Roberta Kay Ministries":MAILTO:connect@robertakay.com
END:VEVENT
BEGIN:VEVENT
DTSTART;TZID=UTC:20231208T180000
DTEND;TZID=UTC:20231208T210000
DTSTAMP:20260425T105540
CREATED:20231121T231433Z
LAST-MODIFIED:20231121T231433Z
UID:2535-1702058400-1702069200@robertakay.com
SUMMARY:CHRISTMAS PARTY AND SILENT AUCTION
DESCRIPTION: Roberta Kay Ministries will be holding our Christmas Celebration on Friday\, December 8\, 2023 .  We are praying that you\, your spouse and friends will be able to join us for a night of great food\, fellowship and celebration.  There will be a silent auction as well as a raffle.  Please be sure to RSVP and let us know how many guests you will be bringing no later than 12/4/23 to connect@robertakay.com \n  \n 
URL:https://robertakay.com/event/christmas-party-and-silent-auction/
LOCATION:Jupiter Location\, 6977 Cypress Cove Cir\, Jupiter\, FL\, 33458-3793\, United States
ATTACH;FMTTYPE=image/jpeg:https://robertakay.com/wp-content/uploads/2023/11/Copy-of-Copy-of-Copy-of-Copy-of-Roberta-Kay-Ministries.jpg
ORGANIZER;CN="Roberta Kay Ministries":MAILTO:connect@robertakay.com
END:VEVENT
BEGIN:VEVENT
DTSTART;TZID=UTC:20230802T190000
DTEND;TZID=UTC:20230802T203000
DTSTAMP:20260425T105540
CREATED:20220827T184340Z
LAST-MODIFIED:20230727T070638Z
UID:2302-1691002800-1691008200@robertakay.com
SUMMARY:Back to Basics Ladies Night
DESCRIPTION:Join us the first Wednesday evening of every month in Jupiter for our Ladies Night Bible Study and Fellowship.  This small group encounter  focuses on digging into the everyday challenges that we as women of God face in our daily lives.
URL:https://robertakay.com/event/back-to-basics-ladies-night-2023-09-06/
LOCATION:Jupiter Location\, 6977 Cypress Cove Cir\, Jupiter\, FL\, 33458-3793\, United States
CATEGORIES:Our Events,Upcoming Events
ATTACH;FMTTYPE=image/jpeg:https://robertakay.com/wp-content/uploads/2022/08/Ladies-Night-for-Website-Events.jpg
ORGANIZER;CN="Roberta Kay Ministries":MAILTO:connect@robertakay.com
END:VEVENT
BEGIN:VEVENT
DTSTART;TZID=UTC:20221019T190000
DTEND;TZID=UTC:20221019T203000
DTSTAMP:20260425T105540
CREATED:20220829T002904Z
LAST-MODIFIED:20230611T115317Z
UID:1896-1666206000-1666211400@robertakay.com
SUMMARY:Back to Basics Ladies Night- Lake Worth
DESCRIPTION:Join us the third Wednesday of every month at Victory Worship Center for our Ladies  Night Fellowship and Bible Study.   This small group encounter focuses on digging into the everyday challenges that we as women of God face in our daily lives.
URL:https://robertakay.com/event/back-to-basics-ladies-night-lake-worth/
LOCATION:Victory Worship Center\, 1915 N A Street\, Lake Worth\, Florida\, 33460
CATEGORIES:Our Events,Upcoming Events
ATTACH;FMTTYPE=image/png:https://robertakay.com/wp-content/uploads/2022/08/Ladies-night-for-events.png
ORGANIZER;CN="Roberta Kay Ministries":MAILTO:connect@robertakay.com
END:VEVENT
BEGIN:VEVENT
DTSTART;TZID=UTC:20230802T190000
DTEND;TZID=UTC:20230802T203000
DTSTAMP:20260425T105540
CREATED:20220827T184340Z
LAST-MODIFIED:20230727T070638Z
UID:2302-1691002800-1691008200@robertakay.com
SUMMARY:Back to Basics Ladies Night
DESCRIPTION:Join us the first Wednesday evening of every month in Jupiter for our Ladies Night Bible Study and Fellowship.  This small group encounter  focuses on digging into the everyday challenges that we as women of God face in our daily lives.
URL:https://robertakay.com/event/back-to-basics-ladies-night-2023-09-06/
LOCATION:Jupiter Location\, 6977 Cypress Cove Cir\, Jupiter\, FL\, 33458-3793\, United States
CATEGORIES:Our Events,Upcoming Events
ATTACH;FMTTYPE=image/jpeg:https://robertakay.com/wp-content/uploads/2022/08/Ladies-Night-for-Website-Events.jpg
ORGANIZER;CN="Roberta Kay Ministries":MAILTO:connect@robertakay.com
END:VEVENT
BEGIN:VEVENT
DTSTART;TZID=UTC:20230920T190000
DTEND;TZID=UTC:20230920T203000
DTSTAMP:20260425T105540
CREATED:20220829T002904Z
LAST-MODIFIED:20231009T004834Z
UID:2291-1695236400-1695241800@robertakay.com
SUMMARY:Back to Basics Ladies Night- Lake Worth
DESCRIPTION:Join us the third Wednesday of every month at Victory Worship Center for our Ladies  Night Fellowship and Bible Study.   This small group encounter focuses on digging into the everyday challenges that we as women of God face in our daily lives.
URL:https://robertakay.com/event/back-to-basics-ladies-night-lake-worth-2023-09-20/
LOCATION:Victory Worship Center\, 1915 N A Street\, Lake Worth\, Florida\, 33460
CATEGORIES:Our Events,Upcoming Events
ATTACH;FMTTYPE=image/png:https://robertakay.com/wp-content/uploads/2022/08/Ladies-night-for-events.png
ORGANIZER;CN="Roberta Kay Ministries":MAILTO:connect@robertakay.com
END:VEVENT
BEGIN:VEVENT
DTSTART;TZID=UTC:20220907T190000
DTEND;TZID=UTC:20220907T203000
DTSTAMP:20260425T105540
CREATED:20220827T184340Z
LAST-MODIFIED:20230611T115509Z
UID:1851-1662577200-1662582600@robertakay.com
SUMMARY:Back to Basics Ladies Night
DESCRIPTION:Join us the first Wednesday evening of every month in Jupiter for our Ladies Night Bible Study and Fellowship.  This small group encounter  focuses on digging into the everyday challenges that we as women of God face in our daily lives.
URL:https://robertakay.com/event/back-to-basics-ladies-night/
LOCATION:Antigua at Town Center\, 1500 Corbison Point Place\, Jupiter\, 33458
CATEGORIES:Our Events,Upcoming Events
ATTACH;FMTTYPE=image/jpeg:https://robertakay.com/wp-content/uploads/2022/08/Ladies-Night-for-Website-Events.jpg
ORGANIZER;CN="Roberta Kay Ministries":MAILTO:connect@robertakay.com
END:VEVENT
BEGIN:VEVENT
DTSTART;TZID=UTC:20230802T190000
DTEND;TZID=UTC:20230802T203000
DTSTAMP:20260425T105540
CREATED:20220827T184340Z
LAST-MODIFIED:20230727T070638Z
UID:2302-1691002800-1691008200@robertakay.com
SUMMARY:Back to Basics Ladies Night
DESCRIPTION:Join us the first Wednesday evening of every month in Jupiter for our Ladies Night Bible Study and Fellowship.  This small group encounter  focuses on digging into the everyday challenges that we as women of God face in our daily lives.
URL:https://robertakay.com/event/back-to-basics-ladies-night-2023-09-06/
LOCATION:Jupiter Location\, 6977 Cypress Cove Cir\, Jupiter\, FL\, 33458-3793\, United States
CATEGORIES:Our Events,Upcoming Events
ATTACH;FMTTYPE=image/jpeg:https://robertakay.com/wp-content/uploads/2022/08/Ladies-Night-for-Website-Events.jpg
ORGANIZER;CN="Roberta Kay Ministries":MAILTO:connect@robertakay.com
END:VEVENT
BEGIN:VEVENT
DTSTART;TZID=UTC:20221019T190000
DTEND;TZID=UTC:20221019T203000
DTSTAMP:20260425T105540
CREATED:20220829T002904Z
LAST-MODIFIED:20230611T115317Z
UID:1896-1666206000-1666211400@robertakay.com
SUMMARY:Back to Basics Ladies Night- Lake Worth
DESCRIPTION:Join us the third Wednesday of every month at Victory Worship Center for our Ladies  Night Fellowship and Bible Study.   This small group encounter focuses on digging into the everyday challenges that we as women of God face in our daily lives.
URL:https://robertakay.com/event/back-to-basics-ladies-night-lake-worth/
LOCATION:Victory Worship Center\, 1915 N A Street\, Lake Worth\, Florida\, 33460
CATEGORIES:Our Events,Upcoming Events
ATTACH;FMTTYPE=image/png:https://robertakay.com/wp-content/uploads/2022/08/Ladies-night-for-events.png
ORGANIZER;CN="Roberta Kay Ministries":MAILTO:connect@robertakay.com
END:VEVENT
BEGIN:VEVENT
DTSTART;TZID=UTC:20230802T190000
DTEND;TZID=UTC:20230802T203000
DTSTAMP:20260425T105540
CREATED:20220827T184340Z
LAST-MODIFIED:20230727T071120Z
UID:2301-1691002800-1691008200@robertakay.com
SUMMARY:Back to Basics Ladies Night
DESCRIPTION:Join us the first Wednesday evening of every month in Jupiter for our Ladies Night Bible Study and Fellowship.  This small group encounter  focuses on digging into the everyday challenges that we as women of God face in our daily lives.
URL:https://robertakay.com/event/back-to-basics-ladies-night-2023-08-02/
LOCATION:Jupiter Location\, 6977 Cypress Cove Cir\, Jupiter\, FL\, 33458-3793\, United States
CATEGORIES:Our Events,Upcoming Events
ATTACH;FMTTYPE=image/jpeg:https://robertakay.com/wp-content/uploads/2022/08/Ladies-Night-for-Website-Events.jpg
ORGANIZER;CN="Roberta Kay Ministries":MAILTO:connect@robertakay.com
END:VEVENT
BEGIN:VEVENT
DTSTART;TZID=UTC:20230802T190000
DTEND;TZID=UTC:20230802T203000
DTSTAMP:20260425T105540
CREATED:20220827T184340Z
LAST-MODIFIED:20230727T070638Z
UID:2302-1691002800-1691008200@robertakay.com
SUMMARY:Back to Basics Ladies Night
DESCRIPTION:Join us the first Wednesday evening of every month in Jupiter for our Ladies Night Bible Study and Fellowship.  This small group encounter  focuses on digging into the everyday challenges that we as women of God face in our daily lives.
URL:https://robertakay.com/event/back-to-basics-ladies-night-2023-09-06/
LOCATION:Jupiter Location\, 6977 Cypress Cove Cir\, Jupiter\, FL\, 33458-3793\, United States
CATEGORIES:Our Events,Upcoming Events
ATTACH;FMTTYPE=image/jpeg:https://robertakay.com/wp-content/uploads/2022/08/Ladies-Night-for-Website-Events.jpg
ORGANIZER;CN="Roberta Kay Ministries":MAILTO:connect@robertakay.com
END:VEVENT
BEGIN:VEVENT
DTSTART;TZID=UTC:20230710T073000
DTEND;TZID=UTC:20230720T080000
DTSTAMP:20260425T105540
CREATED:20230611T131315Z
LAST-MODIFIED:20230707T141507Z
UID:2314-1688974200-1689840000@robertakay.com
SUMMARY:Morning Prayer
DESCRIPTION:Join us for this Morning Prayer Series beginning Monday\, July 10th.  – Thursday July 20th.  We will be starting our day with the Lord together at 7:30 am on Monday – Thursday for a two week series \nClick the link here to join \nbit.ly/robertakaymorningprayer\n 
URL:https://robertakay.com/event/morning-prayer/
ATTACH;FMTTYPE=image/png:https://robertakay.com/wp-content/uploads/2023/06/Copy-of-Prayer-1.png
ORGANIZER;CN="Roberta Kay Ministries":MAILTO:connect@robertakay.com
END:VEVENT
BEGIN:VEVENT
DTSTART;TZID=UTC:20221019T190000
DTEND;TZID=UTC:20221019T203000
DTSTAMP:20260425T105540
CREATED:20220829T002904Z
LAST-MODIFIED:20230611T115317Z
UID:1896-1666206000-1666211400@robertakay.com
SUMMARY:Back to Basics Ladies Night- Lake Worth
DESCRIPTION:Join us the third Wednesday of every month at Victory Worship Center for our Ladies  Night Fellowship and Bible Study.   This small group encounter focuses on digging into the everyday challenges that we as women of God face in our daily lives.
URL:https://robertakay.com/event/back-to-basics-ladies-night-lake-worth/
LOCATION:Victory Worship Center\, 1915 N A Street\, Lake Worth\, Florida\, 33460
CATEGORIES:Our Events,Upcoming Events
ATTACH;FMTTYPE=image/png:https://robertakay.com/wp-content/uploads/2022/08/Ladies-night-for-events.png
ORGANIZER;CN="Roberta Kay Ministries":MAILTO:connect@robertakay.com
END:VEVENT
BEGIN:VEVENT
DTSTART;TZID=UTC:20230710T073000
DTEND;TZID=UTC:20230720T080000
DTSTAMP:20260425T105540
CREATED:20230611T131315Z
LAST-MODIFIED:20230707T141507Z
UID:2314-1688974200-1689840000@robertakay.com
SUMMARY:Morning Prayer
DESCRIPTION:Join us for this Morning Prayer Series beginning Monday\, July 10th.  – Thursday July 20th.  We will be starting our day with the Lord together at 7:30 am on Monday – Thursday for a two week series \nClick the link here to join \nbit.ly/robertakaymorningprayer\n 
URL:https://robertakay.com/event/morning-prayer/
ATTACH;FMTTYPE=image/png:https://robertakay.com/wp-content/uploads/2023/06/Copy-of-Prayer-1.png
ORGANIZER;CN="Roberta Kay Ministries":MAILTO:connect@robertakay.com
END:VEVENT
BEGIN:VEVENT
DTSTART;TZID=UTC:20230710T073000
DTEND;TZID=UTC:20230720T080000
DTSTAMP:20260425T105540
CREATED:20230611T131315Z
LAST-MODIFIED:20230707T141507Z
UID:2314-1688974200-1689840000@robertakay.com
SUMMARY:Morning Prayer
DESCRIPTION:Join us for this Morning Prayer Series beginning Monday\, July 10th.  – Thursday July 20th.  We will be starting our day with the Lord together at 7:30 am on Monday – Thursday for a two week series \nClick the link here to join \nbit.ly/robertakaymorningprayer\n 
URL:https://robertakay.com/event/morning-prayer/
ATTACH;FMTTYPE=image/png:https://robertakay.com/wp-content/uploads/2023/06/Copy-of-Prayer-1.png
ORGANIZER;CN="Roberta Kay Ministries":MAILTO:connect@robertakay.com
END:VEVENT
BEGIN:VEVENT
DTSTART;TZID=UTC:20230710T073000
DTEND;TZID=UTC:20230720T080000
DTSTAMP:20260425T105540
CREATED:20230611T131315Z
LAST-MODIFIED:20230707T141507Z
UID:2314-1688974200-1689840000@robertakay.com
SUMMARY:Morning Prayer
DESCRIPTION:Join us for this Morning Prayer Series beginning Monday\, July 10th.  – Thursday July 20th.  We will be starting our day with the Lord together at 7:30 am on Monday – Thursday for a two week series \nClick the link here to join \nbit.ly/robertakaymorningprayer\n 
URL:https://robertakay.com/event/morning-prayer/
ATTACH;FMTTYPE=image/png:https://robertakay.com/wp-content/uploads/2023/06/Copy-of-Prayer-1.png
ORGANIZER;CN="Roberta Kay Ministries":MAILTO:connect@robertakay.com
END:VEVENT
BEGIN:VEVENT
DTSTART;TZID=UTC:20230710T073000
DTEND;TZID=UTC:20230720T080000
DTSTAMP:20260425T105540
CREATED:20230611T131315Z
LAST-MODIFIED:20230707T141507Z
UID:2314-1688974200-1689840000@robertakay.com
SUMMARY:Morning Prayer
DESCRIPTION:Join us for this Morning Prayer Series beginning Monday\, July 10th.  – Thursday July 20th.  We will be starting our day with the Lord together at 7:30 am on Monday – Thursday for a two week series \nClick the link here to join \nbit.ly/robertakaymorningprayer\n 
URL:https://robertakay.com/event/morning-prayer/
ATTACH;FMTTYPE=image/png:https://robertakay.com/wp-content/uploads/2023/06/Copy-of-Prayer-1.png
ORGANIZER;CN="Roberta Kay Ministries":MAILTO:connect@robertakay.com
END:VEVENT
BEGIN:VEVENT
DTSTART;TZID=UTC:20230710T073000
DTEND;TZID=UTC:20230720T080000
DTSTAMP:20260425T105540
CREATED:20230611T131315Z
LAST-MODIFIED:20230707T141507Z
UID:2314-1688974200-1689840000@robertakay.com
SUMMARY:Morning Prayer
DESCRIPTION:Join us for this Morning Prayer Series beginning Monday\, July 10th.  – Thursday July 20th.  We will be starting our day with the Lord together at 7:30 am on Monday – Thursday for a two week series \nClick the link here to join \nbit.ly/robertakaymorningprayer\n 
URL:https://robertakay.com/event/morning-prayer/
ATTACH;FMTTYPE=image/png:https://robertakay.com/wp-content/uploads/2023/06/Copy-of-Prayer-1.png
ORGANIZER;CN="Roberta Kay Ministries":MAILTO:connect@robertakay.com
END:VEVENT
BEGIN:VEVENT
DTSTART;TZID=UTC:20230710T073000
DTEND;TZID=UTC:20230720T080000
DTSTAMP:20260425T105540
CREATED:20230611T131315Z
LAST-MODIFIED:20230707T141507Z
UID:2314-1688974200-1689840000@robertakay.com
SUMMARY:Morning Prayer
DESCRIPTION:Join us for this Morning Prayer Series beginning Monday\, July 10th.  – Thursday July 20th.  We will be starting our day with the Lord together at 7:30 am on Monday – Thursday for a two week series \nClick the link here to join \nbit.ly/robertakaymorningprayer\n 
URL:https://robertakay.com/event/morning-prayer/
ATTACH;FMTTYPE=image/png:https://robertakay.com/wp-content/uploads/2023/06/Copy-of-Prayer-1.png
ORGANIZER;CN="Roberta Kay Ministries":MAILTO:connect@robertakay.com
END:VEVENT
BEGIN:VEVENT
DTSTART;TZID=UTC:20230710T073000
DTEND;TZID=UTC:20230720T080000
DTSTAMP:20260425T105540
CREATED:20230611T131315Z
LAST-MODIFIED:20230707T141507Z
UID:2314-1688974200-1689840000@robertakay.com
SUMMARY:Morning Prayer
DESCRIPTION:Join us for this Morning Prayer Series beginning Monday\, July 10th.  – Thursday July 20th.  We will be starting our day with the Lord together at 7:30 am on Monday – Thursday for a two week series \nClick the link here to join \nbit.ly/robertakaymorningprayer\n 
URL:https://robertakay.com/event/morning-prayer/
ATTACH;FMTTYPE=image/png:https://robertakay.com/wp-content/uploads/2023/06/Copy-of-Prayer-1.png
ORGANIZER;CN="Roberta Kay Ministries":MAILTO:connect@robertakay.com
END:VEVENT
BEGIN:VEVENT
DTSTART;TZID=UTC:20230705T190000
DTEND;TZID=UTC:20230705T203000
DTSTAMP:20260425T105540
CREATED:20220827T184340Z
LAST-MODIFIED:20230705T114852Z
UID:2300-1688583600-1688589000@robertakay.com
SUMMARY:Back to Basics Ladies Night
DESCRIPTION:Join us the first Wednesday evening of every month in Jupiter for our Ladies Night Bible Study and Fellowship.  This small group encounter  focuses on digging into the everyday challenges that we as women of God face in our daily lives.
URL:https://robertakay.com/event/back-to-basics-ladies-night-2023-07-05/
LOCATION:Jupiter Location\, 6977 Cypress Cove Cir\, Jupiter\, FL\, 33458-3793\, United States
CATEGORIES:Our Events,Upcoming Events
ATTACH;FMTTYPE=image/jpeg:https://robertakay.com/wp-content/uploads/2022/08/Ladies-Night-for-Website-Events.jpg
ORGANIZER;CN="Roberta Kay Ministries":MAILTO:connect@robertakay.com
END:VEVENT
BEGIN:VEVENT
DTSTART;TZID=UTC:20221019T190000
DTEND;TZID=UTC:20221019T203000
DTSTAMP:20260425T105540
CREATED:20220829T002904Z
LAST-MODIFIED:20230611T115317Z
UID:1896-1666206000-1666211400@robertakay.com
SUMMARY:Back to Basics Ladies Night- Lake Worth
DESCRIPTION:Join us the third Wednesday of every month at Victory Worship Center for our Ladies  Night Fellowship and Bible Study.   This small group encounter focuses on digging into the everyday challenges that we as women of God face in our daily lives.
URL:https://robertakay.com/event/back-to-basics-ladies-night-lake-worth/
LOCATION:Victory Worship Center\, 1915 N A Street\, Lake Worth\, Florida\, 33460
CATEGORIES:Our Events,Upcoming Events
ATTACH;FMTTYPE=image/png:https://robertakay.com/wp-content/uploads/2022/08/Ladies-night-for-events.png
ORGANIZER;CN="Roberta Kay Ministries":MAILTO:connect@robertakay.com
END:VEVENT
BEGIN:VEVENT
DTSTART;TZID=UTC:20230621T113000
DTEND;TZID=UTC:20230621T133000
DTSTAMP:20260425T105540
CREATED:20230611T121100Z
LAST-MODIFIED:20230611T121100Z
UID:2306-1687347000-1687354200@robertakay.com
SUMMARY:HLN Networking Luncheon
DESCRIPTION:Join us at the North Palm Beach County\, FL- Heart Link Network Worldwide Luncheon on June 21st as Roberta Kay delivers the Keynote Address.   This is a wonderful opportunity for business networking with heart-centered women and to hear an empowering message by our ministry founder\, author\, pastor and speaker Roberta Kay Smith. \nThe lunch is $45 and can be paid via Venmo @monica-french
URL:https://robertakay.com/event/hln-networking-luncheon/
LOCATION:Buco Kitchen and Bar\, 566 US Highway 1\, Tequesta\, FL\, 33469\, United States
ATTACH;FMTTYPE=image/jpeg:https://robertakay.com/wp-content/uploads/2023/06/network-group-.jpg
END:VEVENT
BEGIN:VEVENT
DTSTART;TZID=UTC:20220907T190000
DTEND;TZID=UTC:20220907T203000
DTSTAMP:20260425T105540
CREATED:20220827T184340Z
LAST-MODIFIED:20230611T115509Z
UID:1851-1662577200-1662582600@robertakay.com
SUMMARY:Back to Basics Ladies Night
DESCRIPTION:Join us the first Wednesday evening of every month in Jupiter for our Ladies Night Bible Study and Fellowship.  This small group encounter  focuses on digging into the everyday challenges that we as women of God face in our daily lives.
URL:https://robertakay.com/event/back-to-basics-ladies-night/
LOCATION:Antigua at Town Center\, 1500 Corbison Point Place\, Jupiter\, 33458
CATEGORIES:Our Events,Upcoming Events
ATTACH;FMTTYPE=image/jpeg:https://robertakay.com/wp-content/uploads/2022/08/Ladies-Night-for-Website-Events.jpg
ORGANIZER;CN="Roberta Kay Ministries":MAILTO:connect@robertakay.com
END:VEVENT
BEGIN:VEVENT
DTSTART;TZID=UTC:20221019T190000
DTEND;TZID=UTC:20221019T203000
DTSTAMP:20260425T105540
CREATED:20220829T002904Z
LAST-MODIFIED:20230611T115317Z
UID:1896-1666206000-1666211400@robertakay.com
SUMMARY:Back to Basics Ladies Night- Lake Worth
DESCRIPTION:Join us the third Wednesday of every month at Victory Worship Center for our Ladies  Night Fellowship and Bible Study.   This small group encounter focuses on digging into the everyday challenges that we as women of God face in our daily lives.
URL:https://robertakay.com/event/back-to-basics-ladies-night-lake-worth/
LOCATION:Victory Worship Center\, 1915 N A Street\, Lake Worth\, Florida\, 33460
CATEGORIES:Our Events,Upcoming Events
ATTACH;FMTTYPE=image/png:https://robertakay.com/wp-content/uploads/2022/08/Ladies-night-for-events.png
ORGANIZER;CN="Roberta Kay Ministries":MAILTO:connect@robertakay.com
END:VEVENT
BEGIN:VEVENT
DTSTART;TZID=UTC:20220907T190000
DTEND;TZID=UTC:20220907T203000
DTSTAMP:20260425T105540
CREATED:20220827T184340Z
LAST-MODIFIED:20230611T115509Z
UID:1851-1662577200-1662582600@robertakay.com
SUMMARY:Back to Basics Ladies Night
DESCRIPTION:Join us the first Wednesday evening of every month in Jupiter for our Ladies Night Bible Study and Fellowship.  This small group encounter  focuses on digging into the everyday challenges that we as women of God face in our daily lives.
URL:https://robertakay.com/event/back-to-basics-ladies-night/
LOCATION:Antigua at Town Center\, 1500 Corbison Point Place\, Jupiter\, 33458
CATEGORIES:Our Events,Upcoming Events
ATTACH;FMTTYPE=image/jpeg:https://robertakay.com/wp-content/uploads/2022/08/Ladies-Night-for-Website-Events.jpg
ORGANIZER;CN="Roberta Kay Ministries":MAILTO:connect@robertakay.com
END:VEVENT
BEGIN:VEVENT
DTSTART;TZID=UTC:20221019T190000
DTEND;TZID=UTC:20221019T203000
DTSTAMP:20260425T105540
CREATED:20220829T002904Z
LAST-MODIFIED:20230611T115317Z
UID:1896-1666206000-1666211400@robertakay.com
SUMMARY:Back to Basics Ladies Night- Lake Worth
DESCRIPTION:Join us the third Wednesday of every month at Victory Worship Center for our Ladies  Night Fellowship and Bible Study.   This small group encounter focuses on digging into the everyday challenges that we as women of God face in our daily lives.
URL:https://robertakay.com/event/back-to-basics-ladies-night-lake-worth/
LOCATION:Victory Worship Center\, 1915 N A Street\, Lake Worth\, Florida\, 33460
CATEGORIES:Our Events,Upcoming Events
ATTACH;FMTTYPE=image/png:https://robertakay.com/wp-content/uploads/2022/08/Ladies-night-for-events.png
ORGANIZER;CN="Roberta Kay Ministries":MAILTO:connect@robertakay.com
END:VEVENT
END:VCALENDAR