BEGIN:VCALENDAR
VERSION:2.0
PRODID:-//Roberta Kay - ECPv6.15.20//NONSGML v1.0//EN
CALSCALE:GREGORIAN
METHOD:PUBLISH
X-WR-CALNAME:Roberta Kay
X-ORIGINAL-URL:https://robertakay.com
X-WR-CALDESC:Events for Roberta Kay
REFRESH-INTERVAL;VALUE=DURATION:PT1H
X-Robots-Tag:noindex
X-PUBLISHED-TTL:PT1H
BEGIN:VTIMEZONE
TZID:UTC
BEGIN:STANDARD
TZOFFSETFROM:+0000
TZOFFSETTO:+0000
TZNAME:UTC
DTSTART:20210101T000000
END:STANDARD
END:VTIMEZONE
BEGIN:VEVENT
DTSTART;TZID=UTC:20220905T200000
DTEND;TZID=UTC:20220905T203000
DTSTAMP:20260425T164406
CREATED:20220827T185814Z
LAST-MODIFIED:20230125T154639Z
UID:1864-1662408000-1662409800@robertakay.com
SUMMARY:Empowerment for Today
DESCRIPTION:Join us at 8:00 pm every Monday evening for our live broadcast of “Empowerment for Today”   Subscribe to our YouTube channel  at:   https://www.youtube.com/channel/UCPN5JbydD0Pei33ZRZFy41w
URL:https://robertakay.com/event/empowerment-for-today/
LOCATION:FL
CATEGORIES:Our Events,Upcoming Events
ATTACH;FMTTYPE=image/jpeg:https://robertakay.com/wp-content/uploads/2022/08/Empowerment-photo.jpg
ORGANIZER;CN="Roberta Kay Ministries":MAILTO:connect@robertakay.com
END:VEVENT
END:VCALENDAR