BEGIN:VCALENDAR
VERSION:2.0
PRODID:-//Roberta Kay - ECPv6.15.20//NONSGML v1.0//EN
CALSCALE:GREGORIAN
METHOD:PUBLISH
X-WR-CALNAME:Roberta Kay
X-ORIGINAL-URL:https://robertakay.com
X-WR-CALDESC:Events for Roberta Kay
REFRESH-INTERVAL;VALUE=DURATION:PT1H
X-Robots-Tag:noindex
X-PUBLISHED-TTL:PT1H
BEGIN:VTIMEZONE
TZID:UTC
BEGIN:STANDARD
TZOFFSETFROM:+0000
TZOFFSETTO:+0000
TZNAME:UTC
DTSTART:20250101T000000
END:STANDARD
END:VTIMEZONE
BEGIN:VEVENT
DTSTART;TZID=UTC:20260620T100000
DTEND;TZID=UTC:20260620T130000
DTSTAMP:20260424T131304
CREATED:20260307T182052Z
LAST-MODIFIED:20260408T174930Z
UID:3073-1781949600-1781960400@robertakay.com
SUMMARY:Spirit Infusion Saturday
DESCRIPTION:Join us Saturday\, June 20th\, 10 AM – 1:00 PM for a powerful morning of worship\, the Word\, and prayer. \n👉 Space is Limited!  Reserve your spot today \n9:45 AM Check-in & mingle \n10:00 AM Worship begins promptly\nWord & prayer following worship\n12 Noon -1 PM  Lite lunch \n(Jupiter Address Supplied at Time of Registration) \nThis is more than a service—it’s a time to encounter God’s presence\, be refreshed\, and be ignited with fresh faith and fire! \n 
URL:https://robertakay.com/event/spirit-infusion-saturday-2/
ATTACH;FMTTYPE=image/jpeg:https://robertakay.com/wp-content/uploads/2026/03/June-Spirit-Infusion.jpg
ORGANIZER;CN="Roberta Kay Ministries":MAILTO:connect@robertakay.com
END:VEVENT
END:VCALENDAR