BEGIN:VCALENDAR
VERSION:2.0
PRODID:-//Roberta Kay - ECPv6.15.20//NONSGML v1.0//EN
CALSCALE:GREGORIAN
METHOD:PUBLISH
X-ORIGINAL-URL:https://robertakay.com
X-WR-CALDESC:Events for Roberta Kay
REFRESH-INTERVAL;VALUE=DURATION:PT1H
X-Robots-Tag:noindex
X-PUBLISHED-TTL:PT1H
BEGIN:VTIMEZONE
TZID:UTC
BEGIN:STANDARD
TZOFFSETFROM:+0000
TZOFFSETTO:+0000
TZNAME:UTC
DTSTART:20240101T000000
END:STANDARD
END:VTIMEZONE
BEGIN:VEVENT
DTSTART;TZID=UTC:20250312T183000
DTEND;TZID=UTC:20250312T203000
DTSTAMP:20260426T032731
CREATED:20250302T181822Z
LAST-MODIFIED:20250302T185551Z
UID:2898-1741804200-1741811400@robertakay.com
SUMMARY:DREAM BIG(ger) 2025 Vision Board 1st Quarter Recap
DESCRIPTION:DREAM BIG(ger) 2025 Vision Board 1st Quarter Recap. Come join us as the group from the January 11th\, 2025 Vision Board Luncheon and Workshop get together to discuss and testify about their Vision Board accomplishments.
URL:https://robertakay.com/event/dream-bigger-2025-vision-board-1st-quarter-recap/
LOCATION:FL
CATEGORIES:Upcoming Events
ATTACH;FMTTYPE=image/webp:https://robertakay.com/wp-content/uploads/2025/03/group-vision-board-photo-e1740939457499.webp
ORGANIZER;CN="Roberta Kay Ministries":MAILTO:connect@robertakay.com
END:VEVENT
BEGIN:VEVENT
DTSTART;TZID=UTC:20250607T110000
DTEND;TZID=UTC:20250607T150000
DTSTAMP:20260426T032731
CREATED:20250302T190304Z
LAST-MODIFIED:20250302T190304Z
UID:2903-1749294000-1749308400@robertakay.com
SUMMARY:Dream Bigger : Mid Year Vision Board Luncheon
DESCRIPTION: EXPERIENCE THE POWER OF CREATING & UPDATING YOUR VISION BOARD \n\nNow is your chance! Join us for our mid-year vision board luncheon & workshop. \n\nIt’s never too late to start or update your vision board. Let’s do it together this June 7th\, 2025\, @ Hilton DoubleTree in Palm Beach Gardens.\nAre you ready to turn your dreams into reality? Join us for Dream Big(ger) 2025: A Vision Board Luncheon and plan your 2025 Vision Board goals! \n\n Date: Saturday\, June 7th\, 2025 Time: 11:00 AM – 3:00 PM Location: DoubleTree Palm Beach Gardens\n What to Expect:\n•Guided vision board creation to map out your goals•Inspiring speakers to help you dream bigger with God•Delicious lunch and a community of like-minded dreamers \n\nThis is YOUR time to step into the plans God has for you! Let’s come together\, Dream Big(ger)\, and make 2025 your best year yet. \n\n Sign up now to reserve your seat: https://dreambiggerluncheon.com/tickets/ \n\nRegister BEFORE April 15th and receive 3 FREE Raffle TicketsSeats are limited\, so don’t wait! Share this with a friend and let’s Dream Bigger Together.
URL:https://robertakay.com/event/dream-bigger-mid-year-vision-board-luncheon/
LOCATION:DoubleTree by Hilton Hotel & Executive Meeting Center Palm Beach Gardens\, 4431 PGA Boulevard\, \, FL\, Palm Beach Gardens\, FL\, 33410\, United States
CATEGORIES:Upcoming Events
ATTACH;FMTTYPE=image/jpeg:https://robertakay.com/wp-content/uploads/2025/03/event-ticket-header.jpg
ORGANIZER;CN="Roberta Kay Ministries":MAILTO:connect@robertakay.com
END:VEVENT
END:VCALENDAR