BEGIN:VCALENDAR
VERSION:2.0
PRODID:-//Roberta Kay - ECPv6.15.20//NONSGML v1.0//EN
CALSCALE:GREGORIAN
METHOD:PUBLISH
X-WR-CALNAME:Roberta Kay
X-ORIGINAL-URL:https://robertakay.com
X-WR-CALDESC:Events for Roberta Kay
REFRESH-INTERVAL;VALUE=DURATION:PT1H
X-Robots-Tag:noindex
X-PUBLISHED-TTL:PT1H
BEGIN:VTIMEZONE
TZID:UTC
BEGIN:STANDARD
TZOFFSETFROM:+0000
TZOFFSETTO:+0000
TZNAME:UTC
DTSTART:20250101T000000
END:STANDARD
END:VTIMEZONE
BEGIN:VEVENT
DTSTART;TZID=UTC:20260513T190000
DTEND;TZID=UTC:20260513T210000
DTSTAMP:20260423T125530
CREATED:20260408T172840Z
LAST-MODIFIED:20260408T172840Z
UID:3083-1778698800-1778706000@robertakay.com
SUMMARY:"Back to Basics"
DESCRIPTION:“Back to Basics” is a monthly women’s gathering designed to help you pause\, reset\, and refocus on what truly matters. Life gets busy\, overwhelming\, and noisy.  This night is about getting back to your foundation. \nJoin us for a relaxed\, welcoming evening filled with uplifting worship\, an encouraging and practical message\, heartfelt prayer\, and genuine connection with other women. No pressure. No pretending. Just a safe space to breathe\, be refreshed\, and leave strengthened and encouraged for the season ahead. \nCome as you are. Bring a friend. Leave renewed. \nFor address and further details\, please email us connect@robertakay.com
URL:https://robertakay.com/event/back-to-basics-8/
ATTACH;FMTTYPE=image/png:https://robertakay.com/wp-content/uploads/2026/01/back-to-basics-group-pic1.png
END:VEVENT
BEGIN:VEVENT
DTSTART;TZID=UTC:20260610T190000
DTEND;TZID=UTC:20260610T210000
DTSTAMP:20260423T125530
CREATED:20260408T173040Z
LAST-MODIFIED:20260408T173040Z
UID:3085-1781118000-1781125200@robertakay.com
SUMMARY:"Back to Basics"
DESCRIPTION:“Back to Basics” is a monthly women’s gathering designed to help you pause\, reset\, and refocus on what truly matters. Life gets busy\, overwhelming\, and noisy.  This night is about getting back to your foundation. \nJoin us for a relaxed\, welcoming evening filled with uplifting worship\, an encouraging and practical message\, heartfelt prayer\, and genuine connection with other women. No pressure. No pretending. Just a safe space to breathe\, be refreshed\, and leave strengthened and encouraged for the season ahead. \nCome as you are. Bring a friend. Leave renewed. \nFor address and further details\, please email us connect@robertakay.com
URL:https://robertakay.com/event/back-to-basics-9/
ATTACH;FMTTYPE=image/png:https://robertakay.com/wp-content/uploads/2026/01/back-to-basics-group-pic1.png
END:VEVENT
BEGIN:VEVENT
DTSTART;TZID=UTC:20260620T100000
DTEND;TZID=UTC:20260620T130000
DTSTAMP:20260423T125530
CREATED:20260307T182052Z
LAST-MODIFIED:20260408T174930Z
UID:3073-1781949600-1781960400@robertakay.com
SUMMARY:Spirit Infusion Saturday
DESCRIPTION:Join us Saturday\, June 20th\, 10 AM – 1:00 PM for a powerful morning of worship\, the Word\, and prayer. \n👉 Space is Limited!  Reserve your spot today \n9:45 AM Check-in & mingle \n10:00 AM Worship begins promptly\nWord & prayer following worship\n12 Noon -1 PM  Lite lunch \n(Jupiter Address Supplied at Time of Registration) \nThis is more than a service—it’s a time to encounter God’s presence\, be refreshed\, and be ignited with fresh faith and fire! \n 
URL:https://robertakay.com/event/spirit-infusion-saturday-2/
ATTACH;FMTTYPE=image/jpeg:https://robertakay.com/wp-content/uploads/2026/03/June-Spirit-Infusion.jpg
ORGANIZER;CN="Roberta Kay Ministries":MAILTO:connect@robertakay.com
END:VEVENT
END:VCALENDAR